BEGIN:VCALENDAR
VERSION:2.0
PRODID:-//مركز الوجدان الحضاري//Events //arX-WR-CALNAME:Wijdan Calendar
NAME:Wijdan Calendar
CALSCALE:GREGORIAN
BEGIN:VTIMEZONE
TZID:Asia/Qatar
TZURL:http://tzurl.org/zoneinfo-outlook/Asia/Qatar
X-LIC-LOCATION:Asia/Qatar
BEGIN:STANDARD
TZOFFSETFROM:+0300
TZOFFSETTO:+0300
TZNAME:+03
DTSTART:19700101T000000
END:STANDARD
END:VTIMEZONE
BEGIN:VEVENT
DTSTAMP:20260424T144429Z
UID:2666
DTSTART;TZID=Asia/Qatar:2025-05-08T160000
DTEND;TZID=Asia/Qatar:2025-05-08T170000
SUMMARY:فعالية حكواتي الوجدان من قصص القرآن ودليل الوجدان 
URL:https://www.wijdancenter.net/wcc_events/%d9%81%d8%b9%d8%a7%d9%84%d9%8a%d8%a9-%d8%ad%d9%83%d9%88%d8%a7%d8%aa%d9%8a-%d8%a7%d9%84%d9%88%d8%ac%d8%af%d8%a7%d9%86-%d9%85%d9%86-%d9%82%d8%b5%d8%b5-%d8%a7%d9%84%d9%82%d8%b1%d8%a2%d9%86-%d9%88%d8%af/
DESCRIPTION:يدعوكم مركز الوجدان الحضاري لحضور فعالية حكواتي الوجدان من قصص القرآن ودليل الوجدان  بمسرح الأطفال يوميا من الساعة 4:00 الى الساعة 5:00 م طيلة أيام معرض الدوحة الدولى للكتاب 34    #معرض_الدوحة_الدولي_للكتاب34 #من_النقش_إلى_الكتابة #وزارة_الثقافة #مركز_الوجدان_الحضاري  &nbsp;
LOCATION:
BEGIN:VALARM
ACTION:DISPLAY
DESCRIPTION:فعالية حكواتي الوجدان من قصص القرآن ودليل الوجدان 
TRIGGER:-P1D
END:VALARM
END:VEVENT
END:VCALENDAR
